BEGIN:VCALENDAR
PRODID:-//eluceo/ical//2.0/EN
VERSION:2.0
CALSCALE:GREGORIAN
BEGIN:VEVENT
UID:40258dc6233882d425f38995401fa914
DTSTAMP:20260421T084212Z
SUMMARY:Bewegung in der Psychiatrie
DESCRIPTION:Talare: Prof. Dr. Wolfram Krawohl\, Chefarzt Psychiatrie Dienst
 e\, Windisch
URL:https://rotary-zurzach-brugg.ch/sv/agenda/show/82236
DTSTART;TZID=Europe/Zurich:20180205T120000
DTEND;TZID=Europe/Zurich:20180205T120000
LOCATION:FHNW\, Windisch
CATEGORIES:Rotary
END:VEVENT
BEGIN:VTIMEZONE
TZID:Europe/Zurich
BEGIN:STANDARD
DTSTART:20180205T120000
TZNAME:CET
TZOFFSETTO:+0100
TZOFFSETFROM:+0100
END:STANDARD
END:VTIMEZONE
END:VCALENDAR
