BEGIN:VCALENDAR
PRODID:-//eluceo/ical//2.0/EN
VERSION:2.0
CALSCALE:GREGORIAN
BEGIN:VEVENT
UID:6e80569a05d0a65a87db3ad964352556
DTSTAMP:20260425T110149Z
SUMMARY:Vorstellung Projekt "RECREARTE"
DESCRIPTION:Sprekers: Frau S. Merz
URL:https://rotary-zurzach-brugg.ch/nl/agenda/show/98749
DTSTART;TZID=Europe/Zurich:20190603T120000
DTEND;TZID=Europe/Zurich:20190603T134500
LOCATION:FHNW\, Windisch
CATEGORIES:Rotary
END:VEVENT
BEGIN:VTIMEZONE
TZID:Europe/Zurich
BEGIN:DAYLIGHT
DTSTART:20190603T120000
TZNAME:CEST
TZOFFSETTO:+0200
TZOFFSETFROM:+0200
END:DAYLIGHT
END:VTIMEZONE
END:VCALENDAR
