BEGIN:VCALENDAR
PRODID:-//eluceo/ical//2.0/EN
VERSION:2.0
CALSCALE:GREGORIAN
BEGIN:VEVENT
UID:97e1f712619884ea5d711eeeb2a32d3c
DTSTAMP:20260423T124247Z
SUMMARY:Vortrag "Fassadenbegrünung"
DESCRIPTION:Sprekers: Frau E. Trachsel\, ZHAW
URL:https://rotary-zurzach-brugg.ch/nl/agenda/show/98743
DTSTART;TZID=Europe/Zurich:20190513T120000
DTEND;TZID=Europe/Zurich:20190513T134500
LOCATION:FHNW\, Windisch
CATEGORIES:Rotary
END:VEVENT
BEGIN:VTIMEZONE
TZID:Europe/Zurich
BEGIN:DAYLIGHT
DTSTART:20190513T120000
TZNAME:CEST
TZOFFSETTO:+0200
TZOFFSETFROM:+0200
END:DAYLIGHT
END:VTIMEZONE
END:VCALENDAR
