BEGIN:VCALENDAR
PRODID:-//eluceo/ical//2.0/EN
VERSION:2.0
CALSCALE:GREGORIAN
BEGIN:VEVENT
UID:12c9c2dabf1e8c52557ea4299a03a184
DTSTAMP:20260423T124507Z
SUMMARY:Frühstück Café Schneider
DESCRIPTION:
URL:https://rotary-zurzach-brugg.ch/nl/agenda/show/79642
DTSTART;TZID=Europe/Zurich:20171006T070000
DTEND;TZID=Europe/Zurich:20171006T070000
LOCATION:Würenlingen
CATEGORIES:Rotary
END:VEVENT
BEGIN:VTIMEZONE
TZID:Europe/Zurich
BEGIN:DAYLIGHT
DTSTART:20171006T070000
TZNAME:CEST
TZOFFSETTO:+0200
TZOFFSETFROM:+0200
END:DAYLIGHT
END:VTIMEZONE
END:VCALENDAR
