BEGIN:VCALENDAR
PRODID:-//eluceo/ical//2.0/EN
VERSION:2.0
CALSCALE:GREGORIAN
BEGIN:VEVENT
UID:a2052ba4a9881def40292df91af55dda
DTSTAMP:20260421T083102Z
SUMMARY:Apéro Restaurant Sternen
DESCRIPTION:
URL:https://rotary-zurzach-brugg.ch/nl/agenda/show/76022
DTSTART;TZID=Europe/Zurich:20170719T180000
DTEND;TZID=Europe/Zurich:20170719T180000
LOCATION:Würenlingen
CATEGORIES:Rotary
END:VEVENT
BEGIN:VTIMEZONE
TZID:Europe/Zurich
BEGIN:DAYLIGHT
DTSTART:20170719T180000
TZNAME:CEST
TZOFFSETTO:+0200
TZOFFSETFROM:+0200
END:DAYLIGHT
END:VTIMEZONE
END:VCALENDAR
