BEGIN:VCALENDAR
PRODID:-//eluceo/ical//2.0/EN
VERSION:2.0
CALSCALE:GREGORIAN
BEGIN:VEVENT
UID:3c25a398c29360c6e9d42e9de8c87c26
DTSTAMP:20260421T121429Z
SUMMARY:Plauderlunch
DESCRIPTION:
URL:https://rotary-zurzach-brugg.ch/nl/agenda/show/57082
DTSTART;TZID=Europe/Zurich:20160314T120000
DTEND;TZID=Europe/Zurich:20160314T120000
LOCATION:Bözberg
CATEGORIES:Rotary
END:VEVENT
BEGIN:VTIMEZONE
TZID:Europe/Zurich
BEGIN:STANDARD
DTSTART:20160314T120000
TZNAME:CET
TZOFFSETTO:+0100
TZOFFSETFROM:+0100
END:STANDARD
END:VTIMEZONE
END:VCALENDAR
