BEGIN:VCALENDAR
PRODID:-//eluceo/ical//2.0/EN
VERSION:2.0
CALSCALE:GREGORIAN
BEGIN:VEVENT
UID:1596d24c8319f4120a80fe273e09978b
DTSTAMP:20260421T104930Z
SUMMARY:Grenzwachtkorps
DESCRIPTION:Sprekers: Br Jürg Noth\, Kdt
URL:https://rotary-zurzach-brugg.ch/nl/agenda/show/57081
DTSTART;TZID=Europe/Zurich:20160307T120000
DTEND;TZID=Europe/Zurich:20160307T120000
LOCATION:Bözberg
CATEGORIES:Rotary
END:VEVENT
BEGIN:VTIMEZONE
TZID:Europe/Zurich
BEGIN:STANDARD
DTSTART:20160307T120000
TZNAME:CET
TZOFFSETTO:+0100
TZOFFSETFROM:+0100
END:STANDARD
END:VTIMEZONE
END:VCALENDAR
