BEGIN:VCALENDAR
PRODID:-//eluceo/ical//2.0/EN
VERSION:2.0
CALSCALE:GREGORIAN
BEGIN:VEVENT
UID:7811a772e6c00df05baa61e2e848f3dd
DTSTAMP:20260421T091437Z
SUMMARY:Plauderlunch
DESCRIPTION:
URL:https://rotary-zurzach-brugg.ch/nl/agenda/show/57073
DTSTART;TZID=Europe/Zurich:20160208T120000
DTEND;TZID=Europe/Zurich:20160208T120000
LOCATION:Rotes Haus\, Brugg
CATEGORIES:Rotary
END:VEVENT
BEGIN:VTIMEZONE
TZID:Europe/Zurich
BEGIN:STANDARD
DTSTART:20160208T120000
TZNAME:CET
TZOFFSETTO:+0100
TZOFFSETFROM:+0100
END:STANDARD
END:VTIMEZONE
END:VCALENDAR
