BEGIN:VCALENDAR
PRODID:-//eluceo/ical//2.0/EN
VERSION:2.0
CALSCALE:GREGORIAN
BEGIN:VEVENT
UID:af098e2f35786c86678f5679128fd997
DTSTAMP:20260421T093810Z
SUMMARY:Rotary-Weihnacht (Partneranlass)
DESCRIPTION:
URL:https://rotary-zurzach-brugg.ch/nl/agenda/show/55060
DTSTART;TZID=Europe/Zurich:20151221T120000
DTEND;TZID=Europe/Zurich:20151221T120000
LOCATION:Bad Zurzach
CATEGORIES:Rotary
END:VEVENT
BEGIN:VTIMEZONE
TZID:Europe/Zurich
BEGIN:STANDARD
DTSTART:20151221T120000
TZNAME:CET
TZOFFSETTO:+0100
TZOFFSETFROM:+0100
END:STANDARD
END:VTIMEZONE
END:VCALENDAR
