BEGIN:VCALENDAR
PRODID:-//eluceo/ical//2.0/EN
VERSION:2.0
CALSCALE:GREGORIAN
BEGIN:VEVENT
UID:a7c8b3a7fe72d98d693ed2da3ed79c30
DTSTAMP:20260421T094027Z
SUMMARY:Asylwesen und Sicherheit
DESCRIPTION:Sprekers: Susanne Hochuli\, Vorsteherin DGS
URL:https://rotary-zurzach-brugg.ch/nl/agenda/show/55058
DTSTART;TZID=Europe/Zurich:20151214T120000
DTEND;TZID=Europe/Zurich:20151214T120000
LOCATION:Bad Zurzach
CATEGORIES:Rotary
END:VEVENT
BEGIN:VTIMEZONE
TZID:Europe/Zurich
BEGIN:STANDARD
DTSTART:20151214T120000
TZNAME:CET
TZOFFSETTO:+0100
TZOFFSETFROM:+0100
END:STANDARD
END:VTIMEZONE
END:VCALENDAR
