BEGIN:VCALENDAR
PRODID:-//eluceo/ical//2.0/EN
VERSION:2.0
CALSCALE:GREGORIAN
BEGIN:VEVENT
UID:ee736ec275fd1eb54af09a347281fa92
DTSTAMP:20260421T093141Z
SUMMARY:Sicherheit in der Medizin
DESCRIPTION:Sprekers: Dr. med. A. Khanedani
URL:https://rotary-zurzach-brugg.ch/nl/agenda/show/55053
DTSTART;TZID=Europe/Zurich:20151109T120000
DTEND;TZID=Europe/Zurich:20151109T120000
LOCATION:Bad Zurzach
CATEGORIES:Rotary
END:VEVENT
BEGIN:VTIMEZONE
TZID:Europe/Zurich
BEGIN:STANDARD
DTSTART:20151109T120000
TZNAME:CET
TZOFFSETTO:+0100
TZOFFSETFROM:+0100
END:STANDARD
END:VTIMEZONE
END:VCALENDAR
