BEGIN:VCALENDAR
PRODID:-//eluceo/ical//2.0/EN
VERSION:2.0
CALSCALE:GREGORIAN
BEGIN:VEVENT
UID:bdb5dc6b293a69a34a283907acbd0c5e
DTSTAMP:20260422T095315Z
SUMMARY:Frühstück Café Schneider
DESCRIPTION:
URL:https://rotary-zurzach-brugg.ch/nl/agenda/show/33317
DTSTART;TZID=Europe/Zurich:20130802T070000
DTEND;TZID=Europe/Zurich:20130802T070000
LOCATION:Würenlingen
CATEGORIES:Rotary
END:VEVENT
BEGIN:VTIMEZONE
TZID:Europe/Zurich
BEGIN:DAYLIGHT
DTSTART:20130802T070000
TZNAME:CEST
TZOFFSETTO:+0200
TZOFFSETFROM:+0200
END:DAYLIGHT
END:VTIMEZONE
END:VCALENDAR
