BEGIN:VCALENDAR
PRODID:-//eluceo/ical//2.0/EN
VERSION:2.0
CALSCALE:GREGORIAN
BEGIN:VEVENT
UID:8f974517de1997419d05008eb93b3d86
DTSTAMP:20260424T084351Z
SUMMARY:Dialog über die Nachwuchsförderung im Endinger Handball
DESCRIPTION:Sprekers: Heinz Schärer
URL:https://rotary-zurzach-brugg.ch/nl/agenda/show/33313
DTSTART;TZID=Europe/Zurich:20130715T120000
DTEND;TZID=Europe/Zurich:20130715T120000
LOCATION:Bad Zurzach
CATEGORIES:Rotary
END:VEVENT
BEGIN:VTIMEZONE
TZID:Europe/Zurich
BEGIN:DAYLIGHT
DTSTART:20130715T120000
TZNAME:CEST
TZOFFSETTO:+0200
TZOFFSETFROM:+0200
END:DAYLIGHT
END:VTIMEZONE
END:VCALENDAR
