BEGIN:VCALENDAR
PRODID:-//eluceo/ical//2.0/EN
VERSION:2.0
CALSCALE:GREGORIAN
BEGIN:VEVENT
UID:7e47a28ae5c2e2cf12240d4db9c98fed
DTSTAMP:20260424T083912Z
SUMMARY:Dinner at Home
DESCRIPTION:
URL:https://rotary-zurzach-brugg.ch/nl/agenda/show/33302
DTSTART;TZID=Europe/Zurich:20130712T000000
DTEND;TZID=Europe/Zurich:20130712T000000
LOCATION:gem. sep. Einladung
CATEGORIES:Rotary
END:VEVENT
BEGIN:VTIMEZONE
TZID:Europe/Zurich
BEGIN:DAYLIGHT
DTSTART:20130712T000000
TZNAME:CEST
TZOFFSETTO:+0200
TZOFFSETFROM:+0200
END:DAYLIGHT
END:VTIMEZONE
END:VCALENDAR
