BEGIN:VCALENDAR
PRODID:-//eluceo/ical//2.0/EN
VERSION:2.0
CALSCALE:GREGORIAN
BEGIN:VEVENT
UID:2ed8b1e2e857b890f0c654889e0eff62
DTSTAMP:20260422T095421Z
SUMMARY:Optionen für das Fernwärmenetz REFUNA der Zukunft
DESCRIPTION:Sprekers: Herr Hostettler\, Geschäftsführer REFUNA
URL:https://rotary-zurzach-brugg.ch/nl/agenda/show/30550
DTSTART;TZID=Europe/Zurich:20130527T120000
DTEND;TZID=Europe/Zurich:20130527T120000
LOCATION:Bad Zurzach
CATEGORIES:Rotary
END:VEVENT
BEGIN:VTIMEZONE
TZID:Europe/Zurich
BEGIN:DAYLIGHT
DTSTART:20130527T120000
TZNAME:CEST
TZOFFSETTO:+0200
TZOFFSETFROM:+0200
END:DAYLIGHT
END:VTIMEZONE
END:VCALENDAR
