BEGIN:VCALENDAR
PRODID:-//eluceo/ical//2.0/EN
VERSION:2.0
CALSCALE:GREGORIAN
BEGIN:VEVENT
UID:c5009a00480737ad81d813bd59a42960
DTSTAMP:20260422T100439Z
SUMMARY:Ostermontag - kein Lunch
DESCRIPTION:
URL:https://rotary-zurzach-brugg.ch/nl/agenda/show/30539
DTSTART;TZID=Europe/Zurich:20130401T000000
DTEND;TZID=Europe/Zurich:20130401T000000
LOCATION:-
CATEGORIES:Rotary
END:VEVENT
BEGIN:VTIMEZONE
TZID:Europe/Zurich
BEGIN:DAYLIGHT
DTSTART:20130401T000000
TZNAME:CEST
TZOFFSETTO:+0200
TZOFFSETFROM:+0200
END:DAYLIGHT
END:VTIMEZONE
END:VCALENDAR
