BEGIN:VCALENDAR
PRODID:-//eluceo/ical//2.0/EN
VERSION:2.0
CALSCALE:GREGORIAN
BEGIN:VEVENT
UID:41b3d047955b653dfaac7da297887955
DTSTAMP:20260422T085436Z
SUMMARY:Dinner at home
DESCRIPTION:
URL:https://rotary-zurzach-brugg.ch/nl/agenda/show/28490
DTSTART;TZID=Europe/Zurich:20130228T000000
DTEND;TZID=Europe/Zurich:20130228T000000
LOCATION:gem. sep. Einladung
CATEGORIES:Rotary
END:VEVENT
BEGIN:VTIMEZONE
TZID:Europe/Zurich
BEGIN:STANDARD
DTSTART:20130228T000000
TZNAME:CET
TZOFFSETTO:+0100
TZOFFSETFROM:+0100
END:STANDARD
END:VTIMEZONE
END:VCALENDAR
