BEGIN:VCALENDAR
PRODID:-//eluceo/ical//2.0/EN
VERSION:2.0
CALSCALE:GREGORIAN
BEGIN:VEVENT
UID:f575c13da58678e693ba81f9c33a432f
DTSTAMP:20260422T100115Z
SUMMARY:Sparlunch im Kinderheim Brugg
DESCRIPTION:
URL:https://rotary-zurzach-brugg.ch/nl/agenda/show/28489
DTSTART;TZID=Europe/Zurich:20130225T120000
DTEND;TZID=Europe/Zurich:20130225T120000
LOCATION:Brugg (gemäss separater Einladung)
CATEGORIES:Rotary
END:VEVENT
BEGIN:VTIMEZONE
TZID:Europe/Zurich
BEGIN:STANDARD
DTSTART:20130225T120000
TZNAME:CET
TZOFFSETTO:+0100
TZOFFSETFROM:+0100
END:STANDARD
END:VTIMEZONE
END:VCALENDAR
