BEGIN:VCALENDAR
PRODID:-//eluceo/ical//2.0/EN
VERSION:2.0
CALSCALE:GREGORIAN
BEGIN:VEVENT
UID:bcbef46d5e90036ea63592e7b322e86b
DTSTAMP:20260424T084228Z
SUMMARY:Inner Wheel Brugg Wettingen
DESCRIPTION:Sprekers: Eva Knecht Riniker
URL:https://rotary-zurzach-brugg.ch/nl/agenda/show/28480
DTSTART;TZID=Europe/Zurich:20130121T120000
DTEND;TZID=Europe/Zurich:20130121T120000
LOCATION:Bad Zurzach
CATEGORIES:Rotary
END:VEVENT
BEGIN:VTIMEZONE
TZID:Europe/Zurich
BEGIN:STANDARD
DTSTART:20130121T120000
TZNAME:CET
TZOFFSETTO:+0100
TZOFFSETFROM:+0100
END:STANDARD
END:VTIMEZONE
END:VCALENDAR
