BEGIN:VCALENDAR
PRODID:-//eluceo/ical//2.0/EN
VERSION:2.0
CALSCALE:GREGORIAN
BEGIN:VEVENT
UID:565a87a55e9a50a1dc558c1d0e241a4b
DTSTAMP:20260422T094812Z
SUMMARY:Protonentherapie am PSI
DESCRIPTION:Partneranlass zusammen mit Rotary Club Brugg Aare Rhein. Refera
 t und Besichtigung des Zentrums mit Rot. Gudrun Goitein\, Leitende Ärztin
  am PSI (Siehe Einladung. Anmeldungen bis spätestens 2. Januar 2013). \nS
 prekers: Rot. Gudrun Goitein
URL:https://rotary-zurzach-brugg.ch/nl/agenda/show/28477
DTSTART;TZID=Europe/Zurich:20130107T173000
DTEND;TZID=Europe/Zurich:20130107T173000
LOCATION:PSI Villigen (gemäss separater Einladung)
CATEGORIES:Rotary
END:VEVENT
BEGIN:VTIMEZONE
TZID:Europe/Zurich
BEGIN:STANDARD
DTSTART:20130107T173000
TZNAME:CET
TZOFFSETTO:+0100
TZOFFSETFROM:+0100
END:STANDARD
END:VTIMEZONE
END:VCALENDAR
