BEGIN:VCALENDAR
PRODID:-//eluceo/ical//2.0/EN
VERSION:2.0
CALSCALE:GREGORIAN
BEGIN:VEVENT
UID:ff0f181d64519986fb97a598076d8601
DTSTAMP:20260422T095848Z
SUMMARY:Silvester - kein Lunch
DESCRIPTION:
URL:https://rotary-zurzach-brugg.ch/nl/agenda/show/26755
DTSTART;TZID=Europe/Zurich:20121231T000000
DTEND;TZID=Europe/Zurich:20121231T000000
LOCATION:-
CATEGORIES:Rotary
END:VEVENT
BEGIN:VTIMEZONE
TZID:Europe/Zurich
BEGIN:STANDARD
DTSTART:20121231T000000
TZNAME:CET
TZOFFSETTO:+0100
TZOFFSETFROM:+0100
END:STANDARD
END:VTIMEZONE
END:VCALENDAR
