BEGIN:VCALENDAR
PRODID:-//eluceo/ical//2.0/EN
VERSION:2.0
CALSCALE:GREGORIAN
BEGIN:VEVENT
UID:93db2272d44976ddbfd08bff49524e57
DTSTAMP:20260420T085839Z
SUMMARY:Frühstück
DESCRIPTION:
URL:https://rotary-zurzach-brugg.ch/nl/agenda/show/26743
DTSTART;TZID=Europe/Zurich:20121102T070000
DTEND;TZID=Europe/Zurich:20121102T070000
LOCATION:Café Schneider\, Würenlingen
CATEGORIES:Rotary
END:VEVENT
BEGIN:VTIMEZONE
TZID:Europe/Zurich
BEGIN:STANDARD
DTSTART:20121102T070000
TZNAME:CET
TZOFFSETTO:+0100
TZOFFSETFROM:+0100
END:STANDARD
END:VTIMEZONE
END:VCALENDAR
