BEGIN:VCALENDAR
PRODID:-//eluceo/ical//2.0/EN
VERSION:2.0
CALSCALE:GREGORIAN
BEGIN:VEVENT
UID:b73816cc01dda6b028482d69344c0991
DTSTAMP:20260422T100847Z
SUMMARY:Kochen bei Patrice
DESCRIPTION:gemäss separater Einladung
URL:https://rotary-zurzach-brugg.ch/nl/agenda/show/25345
DTSTART;TZID=Europe/Zurich:20120824T000000
DTEND;TZID=Europe/Zurich:20120824T000000
LOCATION:-
CATEGORIES:Rotary
END:VEVENT
BEGIN:VTIMEZONE
TZID:Europe/Zurich
BEGIN:DAYLIGHT
DTSTART:20120824T000000
TZNAME:CEST
TZOFFSETTO:+0200
TZOFFSETFROM:+0200
END:DAYLIGHT
END:VTIMEZONE
END:VCALENDAR
