BEGIN:VCALENDAR
PRODID:-//eluceo/ical//2.0/EN
VERSION:2.0
CALSCALE:GREGORIAN
BEGIN:VEVENT
UID:75194180af1edc5c8801557b470274b5
DTSTAMP:20260420T084321Z
SUMMARY:Plauderlunch
DESCRIPTION:
URL:https://rotary-zurzach-brugg.ch/nl/agenda/show/25342
DTSTART;TZID=Europe/Zurich:20120813T120000
DTEND;TZID=Europe/Zurich:20120813T120000
LOCATION:Landgasthof Vier Linden\, Unterbözberg
CATEGORIES:Rotary
END:VEVENT
BEGIN:VTIMEZONE
TZID:Europe/Zurich
BEGIN:DAYLIGHT
DTSTART:20120813T120000
TZNAME:CEST
TZOFFSETTO:+0200
TZOFFSETFROM:+0200
END:DAYLIGHT
END:VTIMEZONE
END:VCALENDAR
