BEGIN:VCALENDAR
PRODID:-//eluceo/ical//2.0/EN
VERSION:2.0
CALSCALE:GREGORIAN
BEGIN:VEVENT
UID:83ef1a777482129c82536054137eca84
DTSTAMP:20260420T084537Z
SUMMARY:Gerd Harries\, Präsident Lions Club Zurzach
DESCRIPTION:Sprekers: Braucht es Lions in der heutigen Zeit?
URL:https://rotary-zurzach-brugg.ch/nl/agenda/show/25336
DTSTART;TZID=Europe/Zurich:20120723T120000
DTEND;TZID=Europe/Zurich:20120723T120000
LOCATION:Hotel Zurzacherhof\,  Zurzach
CATEGORIES:Rotary
END:VEVENT
BEGIN:VTIMEZONE
TZID:Europe/Zurich
BEGIN:DAYLIGHT
DTSTART:20120723T120000
TZNAME:CEST
TZOFFSETTO:+0200
TZOFFSETFROM:+0200
END:DAYLIGHT
END:VTIMEZONE
END:VCALENDAR
