BEGIN:VCALENDAR
PRODID:-//eluceo/ical//2.0/EN
VERSION:2.0
CALSCALE:GREGORIAN
BEGIN:VEVENT
UID:38cd165288a70b15d9704319c6678fd6
DTSTAMP:20260422T012119Z
SUMMARY:Spar-Lunch zum Welt Polio Tag
DESCRIPTION:Sito web: https://www.zurzacherhof.ch/\nRelatore/i: Joachim Koc
 h
URL:https://rotary-zurzach-brugg.ch/it/agenda/show/131477
DTSTART;TZID=Europe/Zurich:20211018T120000
DTEND;TZID=Europe/Zurich:20211018T120000
LOCATION:Hotel Zuzacherhof\, Dr. Martin-Erb-Strasse 5\, 5330 Bad Zurzach
CATEGORIES:Rotary
END:VEVENT
BEGIN:VTIMEZONE
TZID:Europe/Zurich
BEGIN:DAYLIGHT
DTSTART:20211018T120000
TZNAME:CEST
TZOFFSETTO:+0200
TZOFFSETFROM:+0200
END:DAYLIGHT
END:VTIMEZONE
END:VCALENDAR
