BEGIN:VCALENDAR
PRODID:-//eluceo/ical//2.0/EN
VERSION:2.0
CALSCALE:GREGORIAN
BEGIN:VEVENT
UID:31d001484d12a0e6bcf716d2b44f9629
DTSTAMP:20260421T145923Z
SUMMARY:Apéro\, mit anschl. Vortrag zum Thema H2
DESCRIPTION:Site internet: https://www.sternen-wuerenlingen.ch/portraet/\nC
 onférencier(s): Referat Philipp Dietrich\, H2 und der Aufwand im Zusammen
 hang mit der grünen Energie.
URL:https://rotary-zurzach-brugg.ch/fr/agenda/show/131478
DTSTART;TZID=Europe/Zurich:20211020T180000
DTEND;TZID=Europe/Zurich:20211020T201500
LOCATION:Restaurant Hotel Sternen\, Endingerstrasse 7\, 5303 Würenlingen
CATEGORIES:Rotary
END:VEVENT
BEGIN:VTIMEZONE
TZID:Europe/Zurich
BEGIN:DAYLIGHT
DTSTART:20211020T180000
TZNAME:CEST
TZOFFSETTO:+0200
TZOFFSETFROM:+0200
END:DAYLIGHT
END:VTIMEZONE
END:VCALENDAR
