BEGIN:VCALENDAR
PRODID:-//eluceo/ical//2.0/EN
VERSION:2.0
CALSCALE:GREGORIAN
BEGIN:VEVENT
UID:bb015e7dcc104872c8bdf69bd23949f4
DTSTAMP:20260424T062934Z
SUMMARY:Frühstück Café Schneider
DESCRIPTION:Site internet: https://www.cafeschneider.ch/
URL:https://rotary-zurzach-brugg.ch/fr/agenda/show/130067
DTSTART;TZID=Europe/Zurich:20210903T070000
DTEND;TZID=Europe/Zurich:20210903T080000
LOCATION:Café Schneider\, Döttingerstrasse 14\, 5301 Siggenthal-Station
CATEGORIES:Rotary
END:VEVENT
BEGIN:VTIMEZONE
TZID:Europe/Zurich
BEGIN:DAYLIGHT
DTSTART:20210903T070000
TZNAME:CEST
TZOFFSETTO:+0200
TZOFFSETFROM:+0200
END:DAYLIGHT
END:VTIMEZONE
END:VCALENDAR
