BEGIN:VCALENDAR
PRODID:-//eluceo/ical//2.0/EN
VERSION:2.0
CALSCALE:GREGORIAN
BEGIN:VEVENT
UID:3a498bca8b864b5925178a5715a9c970
DTSTAMP:20260421T152557Z
SUMMARY:Herausgeforderte Landwirtschaft
DESCRIPTION:Sitio web: http://www.fhnw.ch/campus-brugg-windisch/kontakt\nOr
 ador(es): Urs Schneider\, SBV
URL:https://rotary-zurzach-brugg.ch/es/agenda/show/131296
DTSTART;TZID=Europe/Zurich:20211011T120000
DTEND;TZID=Europe/Zurich:20211011T140000
LOCATION:Campus Restaurant der FHNW\, Bahnhofstrassse 6\, 5210 Windisch
CATEGORIES:Rotary
END:VEVENT
BEGIN:VTIMEZONE
TZID:Europe/Zurich
BEGIN:DAYLIGHT
DTSTART:20211011T120000
TZNAME:CEST
TZOFFSETTO:+0200
TZOFFSETFROM:+0200
END:DAYLIGHT
END:VTIMEZONE
END:VCALENDAR
